BEGIN:VCALENDAR
VERSION:2.0
PRODID:-//ChamberMaster//Event Calendar 2.0//EN
METHOD:PUBLISH
X-PUBLISHED-TTL:P1H
REFRESH-INTERVAL:P1H
CALSCALE:GREGORIAN
BEGIN:VTIMEZONE
TZID:America/Los_Angeles
BEGIN:DAYLIGHT
RRULE:FREQ=YEARLY;BYMONTH=3;BYDAY=2SU
DTSTART:20070101T000000
TZOFFSETFROM:-0800
TZOFFSETTO:-0700
TZNAME:Pacific Daylight Time
END:DAYLIGHT
BEGIN:STANDARD
RRULE:FREQ=YEARLY;BYMONTH=11;BYDAY=1SU
DTSTART:20070101T000000
TZOFFSETFROM:-0700
TZOFFSETTO:-0800
TZNAME:Pacific Standard Time
END:STANDARD
END:VTIMEZONE
BEGIN:VEVENT
DTSTART;TZID=America/Los_Angeles:20260515T090000
DTEND;TZID=America/Los_Angeles:20260515T103000
X-MICROSOFT-CDO-ALLDAYEVENT:FALSE
SUMMARY:Thinking Local: Buckman Coffee Factory
DESCRIPTION:Join Better Portland for a casual morning coffee to connect with members\, our community\, and local business by supporting businesses in the Portland area. Buckman Coffee Factory 1105 SE Main St\, Portland
X-ALT-DESC;FMTTYPE=text/html:<!DOCTYPE html><html><head><title></title></head><body aria-disabled="false"><p>Join Better Portland for a casual morning coffee to connect with members\, our community\, and local business by supporting businesses in the Portland area. Buckman Coffee Factory 1105 SE Main St\, Portland</p></body></html>
LOCATION:1105 SE Main St Portland OR 97214
UID:e.1928.1448263
SEQUENCE:3
DTSTAMP:20260422T031806Z
URL:https://bbpdx.growthzoneapp.com/calendar/Details/thinking-local-buckman-coffee-factory-1715264?sourceTypeId=Hub
END:VEVENT
END:VCALENDAR
